BEGIN:VCALENDAR
VERSION:2.0
PRODID:-//Tom Hall Auctions, Inc. - ECPv6.15.17//NONSGML v1.0//EN
CALSCALE:GREGORIAN
METHOD:PUBLISH
X-ORIGINAL-URL:https://tomhallauctions.com
X-WR-CALDESC:Events for Tom Hall Auctions, Inc.
REFRESH-INTERVAL;VALUE=DURATION:PT1H
X-Robots-Tag:noindex
X-PUBLISHED-TTL:PT1H
BEGIN:VTIMEZONE
TZID:America/New_York
BEGIN:DAYLIGHT
TZOFFSETFROM:-0500
TZOFFSETTO:-0400
TZNAME:EDT
DTSTART:20240310T070000
END:DAYLIGHT
BEGIN:STANDARD
TZOFFSETFROM:-0400
TZOFFSETTO:-0500
TZNAME:EST
DTSTART:20241103T060000
END:STANDARD
BEGIN:DAYLIGHT
TZOFFSETFROM:-0500
TZOFFSETTO:-0400
TZNAME:EDT
DTSTART:20250309T070000
END:DAYLIGHT
BEGIN:STANDARD
TZOFFSETFROM:-0400
TZOFFSETTO:-0500
TZNAME:EST
DTSTART:20251102T060000
END:STANDARD
BEGIN:DAYLIGHT
TZOFFSETFROM:-0500
TZOFFSETTO:-0400
TZNAME:EDT
DTSTART:20260308T070000
END:DAYLIGHT
BEGIN:STANDARD
TZOFFSETFROM:-0400
TZOFFSETTO:-0500
TZNAME:EST
DTSTART:20261101T060000
END:STANDARD
END:VTIMEZONE
BEGIN:VEVENT
DTSTART;TZID=America/New_York:20250730T190000
DTEND;TZID=America/New_York:20250730T230000
DTSTAMP:20260419T113522
CREATED:20250715T180642Z
LAST-MODIFIED:20250720T002714Z
UID:13423-1753902000-1753916400@tomhallauctions.com
SUMMARY:🔥 Comic Lovers\, Here We Go Again!
DESCRIPTION:View all our online auction. \n🔥 Comic Lovers\, Here We Go Again! \nOnline Auction – 7PM Wednesday\, July 30\, 2025 \nAnother incredible discovery! This round is packed with key issues\, first appearances\, massive group lots\, and hidden gems for collectors of every level. Don’t miss your chance to score big! \nAn astonishing and awesome comic auction comes this way with a massive amount of marvelous lots and groupings you can’t hardly find anywhere else\, plus may keys and landmarks you’ve come to expect. Gems such as the first cover appearance of The Phantom\, Jesse James #1\, numerous and countless late 1940’s and early 1950’s War\, Cartoon\, Western\, Jungle and Superhero adventures aplenty. Plus Star Wars #1\, Frank Miller Wolverine #1\, iconic Neal Adams X-Men\, early Sub-Mariner alongside stupendous offerings of outstanding groupings of Avengers\, Batman\, GOTG\, Punisher\, Fantastic Four\, and so much more! \nPreview the auction by appointment\, call 610-799-0808 \nItems are located at: Tom Hall Auction Gallery\, 4644 Main St (Rte 309)\,Schnecksville\, Pa. 18078 \nPick up times after the auction: 12PM-3:30PM the day after the auction\,  \n9:30AM-3:30PM Monday – Friday  within 7 days of the auction. \nOnline bidding Terms: Major Credit Cards\, 20% Buyer’s  for this auction\, 6% Sales Tax collected if you have not provided a valid Sales Tax Exemption Certificate. \nIn-house shipping!  Bid confidently as we handle the packing and shipping straight from our gallery to you.  \nConsider using our professional in-house shipping department for your auction treasures. \nWith over 30 years of packaging and shipping experience our in-house shipping department has you covered. \nFor shipping inquiries\, contact us at: shipping@tomhallauctions.com. \nOnline bidding Terms: Major Credit Cards\, 20% Buyer’s  for this auction\, 6% Sales Tax collected if you have not provided a valid Sales Tax Exemption Certificate. \nPayment is by major credit card. Checks or pay pal are not accepted. \n(IMPORTANT NOTE: At auctioneers discretion\, payment may be by wire transfer or cash for all purchases with an invoice exceeding $1200.00.)  Auctioneer may require a copy of valid ID for any transactions. \nDo you have Something to Sell? We Can Help. \nReal Estate * Downsizing * Estates * Business Liquidations \nEstate Appraisals * Jewelry & Couture \nMotorcycle & Car Collection \nAny questions please call us Tom Hall Auctions\, Inc. (AU-1734) 610-799-0808
URL:https://tomhallauctions.com/auction/com0-mic-go-again/
LOCATION:Tom Hall Auctions\, Inc.\, Online\, United States
CATEGORIES:None
ATTACH;FMTTYPE=image/jpeg:https://tomhallauctions.com/wp-content/uploads/2025/07/Screenshot-2025-07-15-at-1.57.49 PM.jpeg
END:VEVENT
END:VCALENDAR