BEGIN:VCALENDAR
VERSION:2.0
PRODID:-//Tom Hall Auctions, Inc. - ECPv6.15.17//NONSGML v1.0//EN
CALSCALE:GREGORIAN
METHOD:PUBLISH
X-ORIGINAL-URL:https://tomhallauctions.com
X-WR-CALDESC:Events for Tom Hall Auctions, Inc.
REFRESH-INTERVAL;VALUE=DURATION:PT1H
X-Robots-Tag:noindex
X-PUBLISHED-TTL:PT1H
BEGIN:VTIMEZONE
TZID:America/New_York
BEGIN:DAYLIGHT
TZOFFSETFROM:-0500
TZOFFSETTO:-0400
TZNAME:EDT
DTSTART:20240310T070000
END:DAYLIGHT
BEGIN:STANDARD
TZOFFSETFROM:-0400
TZOFFSETTO:-0500
TZNAME:EST
DTSTART:20241103T060000
END:STANDARD
BEGIN:DAYLIGHT
TZOFFSETFROM:-0500
TZOFFSETTO:-0400
TZNAME:EDT
DTSTART:20250309T070000
END:DAYLIGHT
BEGIN:STANDARD
TZOFFSETFROM:-0400
TZOFFSETTO:-0500
TZNAME:EST
DTSTART:20251102T060000
END:STANDARD
BEGIN:DAYLIGHT
TZOFFSETFROM:-0500
TZOFFSETTO:-0400
TZNAME:EDT
DTSTART:20260308T070000
END:DAYLIGHT
BEGIN:STANDARD
TZOFFSETFROM:-0400
TZOFFSETTO:-0500
TZNAME:EST
DTSTART:20261101T060000
END:STANDARD
END:VTIMEZONE
BEGIN:VEVENT
DTSTART;TZID=America/New_York:20250805T190000
DTEND;TZID=America/New_York:20250805T230000
DTSTAMP:20260419T130451
CREATED:20250719T194055Z
LAST-MODIFIED:20250722T205342Z
UID:13432-1754420400-1754434800@tomhallauctions.com
SUMMARY:Fresh to the market—a fabulous selection of fine furniture\, life-size Santas\, a unique five-foot stein bar\, and more… all from local homes and estates!
DESCRIPTION:View all our online auction. \nThis one’s going to be fantastic—don’t miss it! \nFresh to the market—a fabulous selection of fine furniture\, life-size Santas\, a unique five-foot stein bar\, and more… all from local homes and estates! \nOnline Auction • 7PM Tuesday\, August 5\, 2025 \nItems are located at Tom Hall Auction Gallery\, 4644 Rt. 309\, Schnecksville\, Pa. 18078 \nPreview by Appointment – Call 610-799-0808 \nDon’t miss this exciting opportunity to bid on a standout collection featuring antique\, primitive\, and mid-century furniture\, a one-of-a-kind life-size beer stein bar\, a charming life-size Santa figure\, a 1994 Lincoln Town Car\, and much more. \nAuction Highlights Include:\nA classic Stickley bookcase\, eight Macey and Globe-Wernicke barrister stacking bookcases\, and an enormous vintage City Hall sign\, a larger-than-life fiberglass Santa\, an antique Gothic bench with intricately carved panels\, and a pair of Stendig armchairs. \nAlso featured are Eero Saarinen swiveling chairs with a matching tulip table\, a Bernhardt end table\, a Thomas O’Brien Girard table\, and fine mahogany pieces by Knob Creek including a china cabinet\, dining table and chairs\, and a server. \nRounding out the collection is a modern butcher block farm table with chairs\, an Irwin serpentine sideboard\, a beautifully detailed wrought iron fence gate\, and so much more. \nPeter Miller (1772–1855) Grandfather Clock\, Lehigh County\, PA \nPeter Miller was a respected Lehigh County\, Pennsylvania clockmaker known for crafting distinctive tall‑case clocks in the early 19th century. He was a proficient\, regionally admired artisan whose surviving tall-case clocks remain cherished examples of early 19th-century Lehigh County craftsmanship. Signed “P. Miller” \nThis auction features a rare Khachadourian Gallery London tile-top coffee table\, numbered 32 of 100\, and a striking life-size suit of armor. Other unique highlights include an Elgin National CI coffee mill lamp\, a whimsical knight-in-armor umbrella stand\, cast iron Punch and Judy andirons\, a brass rocking horse\, and a carved wooden horse. \nFurniture and décor selections include a monumental European walnut hunt board\, antique oak hall rack\, horse-drawn buggy bench\, oversized blanket chest\, and a Victorian wicker and leather baby carriage. Also featured are a pair of billiard chairs\, a primitive hand-painted sled\, two large wooden barrels\, a cast iron two-tier birdbath with mercury figure\, a colorful stained glass window\, Victorian marble-top tables\, a primitive wooden wagon\, dry sink\, stick and ball valance\, Whipples rectangular turn-on stand\, and a John M. Bair Windsor-style armchair – plus so much more. \nAlso selling is a 1994 Lincoln Town Car with green exterior paint and chrome accents. It features multi-spoke alloy wheels\, whitewall tires\, and a classic boxy design with a spacious interior. The electric windows and air conditioning are in working condition. However\, the dashboard light does not function\, so mileage is unknown\, and the radio is not working. The vehicle is selling as-is\, and bidders are encouraged to inspect it in person. \nWe encourage bidders to schedule an appointment to preview the items in person. While we do our best to provide accurate descriptions and quality photographs\, there’s no substitute for seeing the items with your own eyes. \nPick up hours at the gallery following the auction:  12noon-3:30pm the day after the auction and Monday thru Friday from 9:30AM-3:30PM  daily. \nNOTE: All items MUST be removed within 7 DAYS of the auction.  \nLocal Delivery Available for Select Items: Call us at 610-799-0808 to discuss availability and details.  \nOnline bidding Terms:  Major Credit Cards\, 20% Buyer’s Premium\, 6% Sales Tax collected if you have provided a valid Sales Tax Exemption Certificate.  \nOnline Only Bidding: Auction starts closing with 2 items closing per minute\, bidding continues as auction closes. \nExtended bidding\, if a bid is placed within the last 1 minute of a lot’s scheduled close time the bidding will be extended 1 minute from the last bid. \nBuying at auction is not like buying new; the items are used\, vintage and antique. They are consigned by estates and people downsizing. They have been used in people’s homes for their purposes\, so while most items are in good condition\, most are not in perfect condition. We provide private previews for the public to come to the gallery and physically inspect items being sold. If you cannot be here for the inspection\, please contact us by email for additional photos or more detailed condition reports. \nWe try to present items to bidders fairly; however\, it is the bidder’s duty to make independent investigation of the condition of items before bidding. \nTom Hall Auctions\, Inc. (AU-1734) 610-799-0808 \nDo you have Something to Sell? We Can Help! \nReal Estate * Downsizing * Estates * Business Liquidations \nMotorcycle & Car Collections * Jewelry & Couture \nTom Hall Auction Gallery\, 4644 Rt. 309\, Schnecksville\, Pa. 18078 \n610-799-0808 info@tomhallauctions.com
URL:https://tomhallauctions.com/auction/all-loc-al-est-stuff/
LOCATION:Tom Hall Auctions\, Inc.\, Online\, United States
CATEGORIES:None
ATTACH;FMTTYPE=image/jpeg:https://tomhallauctions.com/wp-content/uploads/2025/07/Screenshot-2025-07-19-at-3.19.09-PM.jpeg
END:VEVENT
BEGIN:VEVENT
DTSTART;TZID=America/New_York:20250805T190000
DTEND;TZID=America/New_York:20250805T230000
DTSTAMP:20260419T130451
CREATED:20250722T205051Z
LAST-MODIFIED:20250724T220152Z
UID:13472-1754420400-1754434800@tomhallauctions.com
SUMMARY:WOW! A Fabulous Auction Full of Surprises – Including select pieces from David Bausch's Collection. Don’t Miss It!
DESCRIPTION:View all our online auction. \nThis one’s going to be fantastic—don’t miss it! \nFresh to the market—a fabulous selection of fine furniture\, life-size Santas\, a unique five-foot stein bar\, and more… all from local homes and estates! \nOnline Auction • 7PM Tuesday\, August 5\, 2025 \nItems are located at Tom Hall Auction Gallery\, 4644 Rt. 309\, Schnecksville\, Pa. 18078 \nPreview by Appointment – Call 610-799-0808 \nDon’t miss this exciting opportunity to bid on a standout collection featuring antique\, primitive\, and mid-century furniture\, a one-of-a-kind life-size beer stein bar\, a charming life-size Santa figure\, a 1994 Lincoln Town Car\, and much more. \nAuction Highlights Include:\nA classic Stickley bookcase\, eight Macey and Globe-Wernicke barrister stacking bookcases\, and an enormous vintage City Hall sign\, a larger-than-life fiberglass Santa\, an antique Gothic bench with intricately carved panels\, and a pair of Stendig armchairs. \nAlso featured are Eero Saarinen swiveling chairs with a matching tulip table\, a Bernhardt end table\, a Thomas O’Brien Girard table\, and fine mahogany pieces by Knob Creek including a china cabinet\, dining table and chairs\, and a server. \nRounding out the collection is a modern butcher block farm table with chairs\, an Irwin serpentine sideboard\, a beautifully detailed wrought iron fence gate\, and so much more. \nPeter Miller (1772–1855) Grandfather Clock\, Lehigh County\, PA \nPeter Miller was a respected Lehigh County\, Pennsylvania clockmaker known for crafting distinctive tall‑case clocks in the early 19th century. He was a proficient\, regionally admired artisan whose surviving tall-case clocks remain cherished examples of early 19th-century Lehigh County craftsmanship. Signed “P. Miller” \nThis auction features a rare Khachadourian Gallery London tile-top coffee table\, numbered 32 of 100\, and a striking life-size suit of armor. Other unique highlights include an Elgin National CI coffee mill lamp\, a whimsical knight-in-armor umbrella stand\, cast iron Punch and Judy andirons\, a brass rocking horse\, and a carved wooden horse. \nFurniture and décor selections include a monumental European walnut hunt board\, antique oak hall rack\, horse-drawn buggy bench\, oversized blanket chest\, and a Victorian wicker and leather baby carriage. Also featured are a pair of billiard chairs\, a primitive hand-painted sled\, two large wooden barrels\, a cast iron two-tier birdbath with mercury figure\, a colorful stained glass window\, Victorian marble-top tables\, a primitive wooden wagon\, dry sink\, stick and ball valance\, Whipples rectangular turn-on stand\, and a John M. Bair Windsor-style armchair – plus so much more. \nAlso selling is a 1994 Lincoln Town Car with green exterior paint and chrome accents. It features multi-spoke alloy wheels\, whitewall tires\, and a classic boxy design with a spacious interior. The electric windows and air conditioning are in working condition. However\, the dashboard light does not function\, so mileage is unknown\, and the radio is not working. The vehicle is selling as-is\, and bidders are encouraged to inspect it in person. \nWe encourage bidders to schedule an appointment to preview the items in person. While we do our best to provide accurate descriptions and quality photographs\, there’s no substitute for seeing the items with your own eyes. \nPick up hours at the gallery following the auction:  12noon-3:30pm the day after the auction and Monday thru Friday from 9:30AM-3:30PM  daily. \nNOTE: All items MUST be removed within 7 DAYS of the auction.  \nLocal Delivery Available for Select Items: Call us at 610-799-0808 to discuss availability and details.  \nOnline bidding Terms:  Major Credit Cards\, 20% Buyer’s Premium\, 6% Sales Tax collected if you have provided a valid Sales Tax Exemption Certificate.  \nOnline Only Bidding: Auction starts closing with 2 items closing per minute\, bidding continues as auction closes. \nExtended bidding\, if a bid is placed within the last 1 minute of a lot’s scheduled close time the bidding will be extended 1 minute from the last bid. \nBuying at auction is not like buying new; the items are used\, vintage and antique. They are consigned by estates and people downsizing. They have been used in people’s homes for their purposes\, so while most items are in good condition\, most are not in perfect condition. We provide private previews for the public to come to the gallery and physically inspect items being sold. If you cannot be here for the inspection\, please contact us by email for additional photos or more detailed condition reports. \nWe try to present items to bidders fairly; however\, it is the bidder’s duty to make independent investigation of the condition of items before bidding. \nTom Hall Auctions\, Inc. (AU-1734) 610-799-0808 \nDo you have Something to Sell? We Can Help! \nReal Estate * Downsizing * Estates * Business Liquidations \nMotorcycle & Car Collections * Jewelry & Couture \nTom Hall Auction Gallery\, 4644 Rt. 309\, Schnecksville\, Pa. 18078 \n610-799-0808 info@tomhallauctions.com
URL:https://tomhallauctions.com/auction/wow-a-fabulous-auction-full-of-surprises-dont-miss-it/
LOCATION:Tom Hall Auctions\, Inc.\, Online\, United States
CATEGORIES:None
ATTACH;FMTTYPE=image/jpeg:https://tomhallauctions.com/wp-content/uploads/2025/07/Screenshot-2025-07-23-at-9.27.23-PM.jpeg
END:VEVENT
END:VCALENDAR