BEGIN:VCALENDAR
VERSION:2.0
PRODID:-//Tom Hall Auctions, Inc. - ECPv6.15.17//NONSGML v1.0//EN
CALSCALE:GREGORIAN
METHOD:PUBLISH
X-WR-CALNAME:Tom Hall Auctions, Inc.
X-ORIGINAL-URL:https://tomhallauctions.com
X-WR-CALDESC:Events for Tom Hall Auctions, Inc.
REFRESH-INTERVAL;VALUE=DURATION:PT1H
X-Robots-Tag:noindex
X-PUBLISHED-TTL:PT1H
BEGIN:VTIMEZONE
TZID:America/New_York
BEGIN:DAYLIGHT
TZOFFSETFROM:-0500
TZOFFSETTO:-0400
TZNAME:EDT
DTSTART:20240310T070000
END:DAYLIGHT
BEGIN:STANDARD
TZOFFSETFROM:-0400
TZOFFSETTO:-0500
TZNAME:EST
DTSTART:20241103T060000
END:STANDARD
BEGIN:DAYLIGHT
TZOFFSETFROM:-0500
TZOFFSETTO:-0400
TZNAME:EDT
DTSTART:20250309T070000
END:DAYLIGHT
BEGIN:STANDARD
TZOFFSETFROM:-0400
TZOFFSETTO:-0500
TZNAME:EST
DTSTART:20251102T060000
END:STANDARD
BEGIN:DAYLIGHT
TZOFFSETFROM:-0500
TZOFFSETTO:-0400
TZNAME:EDT
DTSTART:20260308T070000
END:DAYLIGHT
BEGIN:STANDARD
TZOFFSETFROM:-0400
TZOFFSETTO:-0500
TZNAME:EST
DTSTART:20261101T060000
END:STANDARD
END:VTIMEZONE
BEGIN:VEVENT
DTSTART;TZID=America/New_York:20250807T190000
DTEND;TZID=America/New_York:20250807T230000
DTSTAMP:20260419T162249
CREATED:20250725T011613Z
LAST-MODIFIED:20250806T020949Z
UID:13493-1754593200-1754607600@tomhallauctions.com
SUMMARY:Movie Lovers & Cinema Collectors—This One’s for You 
DESCRIPTION:View all our online auction. \nMovie Lovers & Cinema Collectors—This One’s for You\nOnline Auction – 7PM Thursday\, August 7th\, 2025 \nStep into the spotlight with this massive and marvelous collection of vintage cinema treasures.\nFrom the Golden Age of Hollywood to the cult classics of the 1990s\, this auction is packed with original film posters\, rare media formats\, and iconic movie memorabilia that will ignite nostalgia and fuel your passion for film history. \nHighlights include: \n\nGone With The Wind\, The Abominable Dr. Phibes\, The Invisible Man\, Enter The Dragon\n… and many more outstanding original posters.\n\nAlso featured: \n\nRare RCA Picture Disks\, Classic Atari and Intellivision titles\, Vintage CD-ROMs and Laserdiscs\, 1990s and modern film posters\, Dozens of unique and collectible movie items\n\nDon’t miss your chance to own a piece of cinematic history. New lots added daily—check back often! \nItems are located at Tom Hall Auction Gallery\, 4644 Rt. 309\, Schnecksville\, Pa. 18078 \nPreview by Appointment – Call 610-799-0808 \nWe encourage bidders to schedule an appointment to preview the items in person. While we do our best to provide accurate descriptions and quality photographs\, there’s no substitute for seeing the items with your own eyes. \nPick up hours at the gallery following the auction:  12noon-3:30pm the day after the auction and Monday thru Friday from 9:30AM-3:30PM  daily. \nNOTE: All items MUST be removed within 7 DAYS of the auction.  \nLocal Delivery Available for Select Items: Call us at 610-799-0808 to discuss availability and details.  \nOnline bidding Terms:  Major Credit Cards\, 20% Buyer’s Premium\, 6% Sales Tax collected if you have provided a valid Sales Tax Exemption Certificate.  \nOnline Only Bidding: Auction starts closing with 2 items closing per minute\, bidding continues as auction closes. \nExtended bidding\, if a bid is placed within the last 1 minute of a lot’s scheduled close time the bidding will be extended 1 minute from the last bid. \nBuying at auction is not like buying new; the items are used\, vintage and antique. They are consigned by estates and people downsizing. They have been used in people’s homes for their purposes\, so while most items are in good condition\, most are not in perfect condition. We provide private previews for the public to come to the gallery and physically inspect items being sold. If you cannot be here for the inspection\, please contact us by email for additional photos or more detailed condition reports. \nWe try to present items to bidders fairly; however\, it is the bidder’s duty to make independent investigation of the condition of items before bidding. \nTom Hall Auctions\, Inc. (AU-1734) 610-799-0808 \nDo you have Something to Sell? We Can Help! \nReal Estate * Downsizing * Estates * Business Liquidations \nMotorcycle & Car Collections * Jewelry & Couture \nTom Hall Auction Gallery\, 4644 Rt. 309\, Schnecksville\, Pa. 18078 \n610-799-0808 info@tomhallauctions.com
URL:https://tomhallauctions.com/auction/movie-time-on/
LOCATION:Tom Hall Auctions\, Inc.\, Online\, United States
CATEGORIES:None
ATTACH;FMTTYPE=image/jpeg:https://tomhallauctions.com/wp-content/uploads/2025/07/Screenshot-2025-07-24-at-8.39.05-PM.jpeg
END:VEVENT
END:VCALENDAR