BEGIN:VCALENDAR
VERSION:2.0
PRODID:-//Tom Hall Auctions, Inc. - ECPv6.15.17//NONSGML v1.0//EN
CALSCALE:GREGORIAN
METHOD:PUBLISH
X-ORIGINAL-URL:https://tomhallauctions.com
X-WR-CALDESC:Events for Tom Hall Auctions, Inc.
REFRESH-INTERVAL;VALUE=DURATION:PT1H
X-Robots-Tag:noindex
X-PUBLISHED-TTL:PT1H
BEGIN:VTIMEZONE
TZID:America/New_York
BEGIN:DAYLIGHT
TZOFFSETFROM:-0500
TZOFFSETTO:-0400
TZNAME:EDT
DTSTART:20240310T070000
END:DAYLIGHT
BEGIN:STANDARD
TZOFFSETFROM:-0400
TZOFFSETTO:-0500
TZNAME:EST
DTSTART:20241103T060000
END:STANDARD
BEGIN:DAYLIGHT
TZOFFSETFROM:-0500
TZOFFSETTO:-0400
TZNAME:EDT
DTSTART:20250309T070000
END:DAYLIGHT
BEGIN:STANDARD
TZOFFSETFROM:-0400
TZOFFSETTO:-0500
TZNAME:EST
DTSTART:20251102T060000
END:STANDARD
BEGIN:DAYLIGHT
TZOFFSETFROM:-0500
TZOFFSETTO:-0400
TZNAME:EDT
DTSTART:20260308T070000
END:DAYLIGHT
BEGIN:STANDARD
TZOFFSETFROM:-0400
TZOFFSETTO:-0500
TZNAME:EST
DTSTART:20261101T060000
END:STANDARD
END:VTIMEZONE
BEGIN:VEVENT
DTSTART;TZID=America/New_York:20250818T190000
DTEND;TZID=America/New_York:20250818T230000
DTSTAMP:20260422T062115
CREATED:20250801T173427Z
LAST-MODIFIED:20250811T171221Z
UID:13525-1755543600-1755558000@tomhallauctions.com
SUMMARY:Studio Pottery & Art by Seagreaves\, Gallucci\, Gercken\, Paine\, B. Boyer & Caprioli - Plus Unique Finds! 
DESCRIPTION:Studio Pottery & Art by Verna Seagreaves\, Gallucci\, Graham Gercken\, Brian Paine\, Bradley Boyer\, Caprioli\, D. Caggiano\,  James C. Seagreaves\, Edward Hajdin\, Plus Unique Finds! \nOnline Auction – 7PM Monday\, August 18\, 2025 \nItems are located at Tom Hall Auction Gallery\, 4644 Rt. 309\, Schnecksville\, Pa. 18078 \nPreview by Appointment – Call 610-799-0808 \nWe encourage bidders to schedule an appointment to preview the items in person. While we do our best to provide accurate descriptions and quality photographs\, there’s no substitute for seeing the items with your own eyes. \nPick up hours at the gallery following the auction:  12noon-3:30pm the day after the auction and Monday thru Friday from 9:30AM-3:30PM  daily. \nNOTE: All items MUST be removed within 7 DAYS of the auction.  \nLocal Delivery Available for Select Items: Call us at 610-799-0808 to discuss availability and details.  \nOnline bidding Terms:  Major Credit Cards\, 20% Buyer’s Premium\, 6% Sales Tax collected if you have provided a valid Sales Tax Exemption Certificate.  \nOnline Only Bidding: Auction starts closing with 2 items closing per minute\, bidding continues as auction closes. \nExtended bidding\, if a bid is placed within the last 1 minute of a lot’s scheduled close time the bidding will be extended 1 minute from the last bid. \nBuying at auction is not like buying new; the items are used\, vintage and antique. They are consigned by estates and people downsizing. They have been used in people’s homes for their purposes\, so while most items are in good condition\, most are not in perfect condition. We provide private previews for the public to come to the gallery and physically inspect items being sold. If you cannot be here for the inspection\, please contact us by email for additional photos or more detailed condition reports. \nWe try to present items to bidders fairly; however\, it is the bidder’s duty to make independent investigation of the condition of items before bidding. \nTom Hall Auctions\, Inc. (AU-1734) 610-799-0808 \nDo you have Something to Sell? We Can Help! \nReal Estate * Downsizing * Estates * Business Liquidations \nMotorcycle & Car Collections * Jewelry & Couture \nTom Hall Auction Gallery\, 4644 Rt. 309\, Schnecksville\, Pa. 18078 \n610-799-0808 info@tomhallauctions.com
URL:https://tomhallauctions.com/auction/pot-tery-don-ne-rt-go/
LOCATION:Tom Hall Auctions\, Inc.\, Online\, United States
CATEGORIES:None
ATTACH;FMTTYPE=image/jpeg:https://tomhallauctions.com/wp-content/uploads/2025/08/Screenshot-2025-08-01-at-1.27.00-PM.jpeg
END:VEVENT
BEGIN:VEVENT
DTSTART;TZID=America/New_York:20250818T190000
DTEND;TZID=America/New_York:20250818T230000
DTSTAMP:20260422T062115
CREATED:20250805T193323Z
LAST-MODIFIED:20250805T193323Z
UID:13542-1755543600-1755558000@tomhallauctions.com
SUMMARY:Cadillac Sedan DeVille\, Harley-Davidson FLSTF Fat Boy\, Yamaha Zuma 125cc Scooter & 2 Motorcycle Lifts
DESCRIPTION:Cadillac Sedan DeVille\, Harley-Davidson FLSTF Fat Boy\, Yamaha Zuma 125cc Scooter & 2 Motorcycle Lifts \nOnline Auction – 7PM Monday\, August 18\, 2025 \nGet ready for the ride of your life with this exciting online auction featuring standout vehicles\, motorcycles\, and more! Whether you’re a collector\, cruiser\, or commuter\, there’s something here to rev your engine. \n🚗 1984 Cadillac Sedan DeVille – Timeless American Luxury\nA classic beauty with a blue exterior\, matching blue interior\, and vinyl roof.\nOnly 78\,322 miles on the odometer. Equipped with power windows\, original radio\, trunk release\, and A/C (blows\, but not cold). Runs well after jump-start – clean\, comfortable\, and ready for its next chapter. \n🏍️ 2003 Harley-Davidson FLSTF Fat Boy – 100th Anniversary Edition\nBold and iconic with custom flame-accented black tank and chrome detailing.\nMarked #32 of 200 – a limited paint job from Harley’s centennial year.\nOdometer reads just 6\,988 miles. A collector’s dream! \n🛵 Yamaha Zuma 125cc Scooter – Urban Ready\nStylish blue and black design with dual headlights and rear rack.\nOnly 1\,499 miles\, and includes a brand-new battery.\nPerfect for zipping around town with ease and style. \n🛠️ Motorcycle Lifts\nPittsburg & Craftsman motorcycle lifts – perfect for your garage setup or shop. \nPreview by Appointment: Vehicles are located at our Auction Gallery\, please call 610-799-0808 to schedule your preview. \nImportant Terms:\n• Cash or wire transfer required for vehicles purchases.\n• Credit cards accepted for the 2 motorcycle lifts.\n• 20% Buyer’s Premium applies to all purchases.\n• 6% PA Sales Tax applies to titled vehicles (collected by the notary).\n• Vehicle titles will be available at:\nSchnecksville Notary\n3971 Independence Drive\, Schnecksville\, PA 18078\nPhone: 484-357-1442. \n\nOnline-Only Auction: Bidding begins to close 7PM Monday August 18\, 2025.\nClosing Format: 2 items close per minute.\nExtended Bidding: Any bid placed within the final minute of a lot will extend bidding on that lot by 1 additional minute.\n\nHAVE SOMETHING TO SELL? \nWe’re here to help with: \n\nReal Estate Sales\nDownsizing & Estate Services\nBusiness Liquidations\nJewelry\, Couture\, Motorcycles & Car Collections\nEstate Appraisals\n\nTom Hall Auctions\, Inc. (AU-1734)\n📞 610-799-0808\n🌐 www.tomhallauctions.com
URL:https://tomhallauctions.com/auction/cadillac-sedan-deville-harley-davidson-flstf-fat-boy-yamaha-zuma-125cc-scooter-2-motorcycle-lifts/
LOCATION:Tom Hall Auctions\, Inc.\, Online\, United States
CATEGORIES:None
ATTACH;FMTTYPE=image/jpeg:https://tomhallauctions.com/wp-content/uploads/2025/08/Screenshot-2025-08-05-at-11.09.20-AM.jpeg
END:VEVENT
END:VCALENDAR