BEGIN:VCALENDAR
VERSION:2.0
PRODID:-//Tom Hall Auctions, Inc. - ECPv6.15.17//NONSGML v1.0//EN
CALSCALE:GREGORIAN
METHOD:PUBLISH
X-ORIGINAL-URL:https://tomhallauctions.com
X-WR-CALDESC:Events for Tom Hall Auctions, Inc.
REFRESH-INTERVAL;VALUE=DURATION:PT1H
X-Robots-Tag:noindex
X-PUBLISHED-TTL:PT1H
BEGIN:VTIMEZONE
TZID:America/New_York
BEGIN:DAYLIGHT
TZOFFSETFROM:-0500
TZOFFSETTO:-0400
TZNAME:EDT
DTSTART:20240310T070000
END:DAYLIGHT
BEGIN:STANDARD
TZOFFSETFROM:-0400
TZOFFSETTO:-0500
TZNAME:EST
DTSTART:20241103T060000
END:STANDARD
BEGIN:DAYLIGHT
TZOFFSETFROM:-0500
TZOFFSETTO:-0400
TZNAME:EDT
DTSTART:20250309T070000
END:DAYLIGHT
BEGIN:STANDARD
TZOFFSETFROM:-0400
TZOFFSETTO:-0500
TZNAME:EST
DTSTART:20251102T060000
END:STANDARD
BEGIN:DAYLIGHT
TZOFFSETFROM:-0500
TZOFFSETTO:-0400
TZNAME:EDT
DTSTART:20260308T070000
END:DAYLIGHT
BEGIN:STANDARD
TZOFFSETFROM:-0400
TZOFFSETTO:-0500
TZNAME:EST
DTSTART:20261101T060000
END:STANDARD
END:VTIMEZONE
BEGIN:VEVENT
DTSTART;TZID=America/New_York:20250819T190000
DTEND;TZID=America/New_York:20250819T230000
DTSTAMP:20260422T075843
CREATED:20250729T201214Z
LAST-MODIFIED:20250801T183338Z
UID:13506-1755630000-1755644400@tomhallauctions.com
SUMMARY:Partial Contents of a 25 Room Allentown Home! Including an enormous doll house.
DESCRIPTION:Partial Contents of David Bausch’s 25-Room Allentown Home\nOnline Auction – Tuesday\, August 19\, 2024 at 7PM \nPartial contents of David Bausch’s remarkable 25-room Allentown residence. While many of his prized pieces have been relocated to our auction gallery\, this auction features other items in the home—over 140 pieces of furniture\, decorative items\, books\, and household contents sold to the highest bidder! \n\nAuction Highlights Include:\n\n\nVictorian desk with bookcase top\, Mirrored Victorian dresser\, Chaise lounge\, Victrola\, Carved oak library table\, Player piano\, Pine dry sink\, Large oak rolltop desk\, Stacking bookcase\, Oak side-by-side\, Dressers\, chests\, and lamps\, Doctor’s scale\, Large hand-tied rug\, Tile-top table\, Electric fountain\, Assorted household and decorative items \n\n\nAlso Selling: 2 handmade\, Victorian-style dollhouse – large and finely detailed! \n\nImportant Buyer Info – Onsite Auction Location\nThis auction is located  in Allentown\, PA (not at Tom Hall Auctions). The exact address will be provided in the paid receipt email. \nBuyers must bring help\, tools\, and proper equipment to remove any items purchased. \n\nPickup Details – By Appointment Only\n\n\nThursday\, August 21\, 2025 – 9:00 AM to 4:00 PM \n\n\nFriday\, August 22\, 2025 – 9:00 AM to 2:00 PM \n\n\nOnce your invoice is paid\, you’ll receive an email with the pickup address and a link to schedule your appointment. Timed slots help us maintain safe and efficient traffic flow during removal. \nPlease Note: We appreciate your patience and cooperation during the pickup process. \n\nShipping & Delivery\n🚫 No shipping available for this auction.📦 Local delivery may be available – call 610-799-0808 for options and pricing. \n\nAuction Details\n\n\nOnline-only bidding \n\n\nAuction begins closing at 7:00 PM with 2 items closing per minute \n\n\nExtended bidding: If a bid is placed in the final minute of a lot’s countdown\, bidding will extend by 1 minute. \n\n\n\nTerms & Conditions\n\n\nPayment: All major credit cards accepted \n\n\nBuyer’s Premium: 20% added to all final bids \n\n\nSales Tax: No sales tax will be charged \n\n\nPlease remember: these are vintage\, antique\, and used items. Most are in good condition but not new or perfect. Items are consigned by individuals downsizing or settling estates.
URL:https://tomhallauctions.com/auction/partial-contents-of-a-25-room-allentown-home/
LOCATION:Tom Hall Auctions\, Inc.\, Online\, United States
CATEGORIES:None
ATTACH;FMTTYPE=image/jpeg:https://tomhallauctions.com/wp-content/uploads/2025/07/Screenshot-2025-07-29-at-4.02.00-PM.jpeg
END:VEVENT
BEGIN:VEVENT
DTSTART;TZID=America/New_York:20250819T190000
DTEND;TZID=America/New_York:20250819T230000
DTSTAMP:20260422T075843
CREATED:20250810T213424Z
LAST-MODIFIED:20250810T213424Z
UID:13554-1755630000-1755644400@tomhallauctions.com
SUMMARY:🚀 Single Owner Coca-Cola Collection • Model Planes • Trains • Hot Wheels & Toys Galore!
DESCRIPTION:Online Auction 7:00 PM • Tuesday\, August 19\, 2025BID NOW at www.tomhallauctions.com \n\n🚀 Single Owner Coca-Cola Collection • Model Planes • Trains • Hot Wheels & Toys Galore!\nA refreshing lifetime collection from a local collector—featuring vintage Coca-Cola memorabilia\, diecast model airplanes\, Lionel trains\, Hot Wheels Redlines\, Matchbox vehicles\, and more. \n\nAuction Highlights\n\n\nUltra-Rare “First Taste in Space” Coca-Cola Can & DisplaySpecially designed for the Space Shuttle Challenger STS-51F mission in 1985. \n\n\nCoca-Cola framed ephemera & memorabilia display \n\n\n1960s yellow wooden Coca-Cola crates \n\n\nClassic red & white Coca-Cola button sign & other signage \n\n\n1960s Allen Haddock Co. tin route truck \n\n\nVintage toys including Buddy L & Taiyo \n\n\nFull six-packs\, bottles\, cans\, glassware & advertising \n\n\n\nModel & Toy Collections\n\n\nDiecast Airplanes: Daron\, Model Power\, Unimax\, DeAgostini\, Easy Model\, Oxford\, Witty Wings\, Atlas\, HM\, Franklin Mint \n\n\nHot Wheels: Carded\, Vintage Redlines \n\n\nMatchbox: Carded & loose \n\n\nLionel 4-4-2 steam locomotive & vintage S gauge rolling stock \n\n\n\nAuction Preview\n\n\nBy Appointment — Call 610-799-0808 \n\n\nLocation: Tom Hall Auction Gallery4644 Rte. 309\, Schnecksville\, PA 18078 \n\n\n\nPickup Times\n\n\nDay After Auction: 12 PM – 3:30 PM \n\n\nMonday – Friday (within 7 days): 9:30 AM – 3:30 PM \n\n\n\nIn-House Shipping\nBid with confidence—we pack & ship directly from our gallery! \n\n\nShipping via UPS & USPS (Media Mail available for qualifying items) \n\n\nInternational shipping available (Canada & worldwide) \n\n\nNo prepaid or 3rd-party labels—all orders ship on our account \n\n\nPacking Costs: $5–$10 plus materials ($2–$5) = $7–$15 average\, plus actual shipping \n\n\nLarge/complex orders may cost more \n\n\nLess than 0.1% damage rate on 4\,000+ shipments last year \n\n\n📦 Questions? Contact Paul at shipping@tomhallauctions.com \n\nPayment Terms\n\n\nMajor Credit Cards Accepted \n\n\n20% Buyer’s Premium \n\n\n6% PA Sales Tax unless valid exemption certificate on file \n\n\nNew bidders: Auctioneer may require cash or wire transfer for invoices over $1\,250 and valid photo ID \n\n\n\nGot Something to Sell?\nWe can help with:Real Estate • Downsizing • Estates • Business Liquidations • Estate Appraisals • Jewelry & Couture • Motorcycle & Car Collections
URL:https://tomhallauctions.com/auction/%f0%9f%9a%80-single-owner-coca-cola-collection-model-planes-trains-hot-wheels-toys-galore/
LOCATION:Tom Hall Auctions\, Inc.\, Online\, United States
CATEGORIES:None
ATTACH;FMTTYPE=image/jpeg:https://tomhallauctions.com/wp-content/uploads/2025/08/Screenshot-2025-08-10-at-5.33.13-PM.jpeg
END:VEVENT
END:VCALENDAR