BEGIN:VCALENDAR
VERSION:2.0
PRODID:-//Tom Hall Auctions, Inc. - ECPv6.15.17//NONSGML v1.0//EN
CALSCALE:GREGORIAN
METHOD:PUBLISH
X-ORIGINAL-URL:https://tomhallauctions.com
X-WR-CALDESC:Events for Tom Hall Auctions, Inc.
REFRESH-INTERVAL;VALUE=DURATION:PT1H
X-Robots-Tag:noindex
X-PUBLISHED-TTL:PT1H
BEGIN:VTIMEZONE
TZID:America/New_York
BEGIN:DAYLIGHT
TZOFFSETFROM:-0500
TZOFFSETTO:-0400
TZNAME:EDT
DTSTART:20250309T070000
END:DAYLIGHT
BEGIN:STANDARD
TZOFFSETFROM:-0400
TZOFFSETTO:-0500
TZNAME:EST
DTSTART:20251102T060000
END:STANDARD
BEGIN:DAYLIGHT
TZOFFSETFROM:-0500
TZOFFSETTO:-0400
TZNAME:EDT
DTSTART:20260308T070000
END:DAYLIGHT
BEGIN:STANDARD
TZOFFSETFROM:-0400
TZOFFSETTO:-0500
TZNAME:EST
DTSTART:20261101T060000
END:STANDARD
BEGIN:DAYLIGHT
TZOFFSETFROM:-0500
TZOFFSETTO:-0400
TZNAME:EDT
DTSTART:20270314T070000
END:DAYLIGHT
BEGIN:STANDARD
TZOFFSETFROM:-0400
TZOFFSETTO:-0500
TZNAME:EST
DTSTART:20271107T060000
END:STANDARD
END:VTIMEZONE
BEGIN:VEVENT
DTSTART;TZID=America/New_York:20260118T190000
DTEND;TZID=America/New_York:20260118T230000
DTSTAMP:20260420T101822
CREATED:20260105T193744Z
LAST-MODIFIED:20260105T193819Z
UID:14352-1768762800-1768777200@tomhallauctions.com
SUMMARY:MINERALS\, ARROWHEADS\, GEODES\, SWAROVSY & MORE!
DESCRIPTION:Bid Now on all our Auctions \nMINERALS\, ARROWHEADS\, GEODES & MORE!Online Auction • 7PM • Sunday\, January 18\, 2026 \nStep into a captivating online auction where ancient history\, natural beauty\, and refined crystal artistry converge in one exceptional collection. \nThis thoughtfully curated sale features Native American excavated artifacts\, including tools\, points\, effigy pieces\, arrowheads\, pipes\, axe heads\, gorgets\, and pendants—with documented examples from Lehigh\, Berks\, and other Pennsylvania counties. Select pieces retain original excavation labels\, providing valuable context and provenance\, while others are expertly mounted in display groupings that bring their stories vividly to life. \nComplementing these historic treasures is an impressive selection of polished gemstone spheres in a wide range of materials\, including carnelian\, amethyst\, citrine\, petrified wood\, jasper\, chrysoprase\, turquoise\, moonstone\, chrysocolla\, and more. A true highlight is a boldly carved African turquoise skull\, offering a dramatic and highly collectible focal point. \nRounding out the auction is a sparkling assortment of art glass paperweights\, from intricate millefiori designs to a variety of Swarovski pieces—ranging from charming miniature animal figures to striking statement paperweights. \nThis diverse and engaging auction invites you to explore\, discover\, and bid on pieces that span cultures\, materials\, and centuries. \nPreview the auction by appointment\, call 610-799-0808. \nItems are located at: Tom Hall Auction Gallery\, 4644 Rte. 309\, Schnecksville\, Pa. 18078 Pick up times after the auction: 12PM-3:30PM the day after the auction\, 9:30AM-3:30PM Monday -Friday within 7 days of the auction. \nIn-house shipping! Bid confidently as we handle the packing and shipping straight from our gallery to you. Quick. Easy. Done! \nIMPORTANT PLEASE READ PAYMENT TERMS FOR THIS AUCTION Online bidding Terms: Major Credit Cards\, 20% Buyer’s Premium\, 6% Sales Tax collected if you have not provided a valid Sales Tax Exemption Certificate. No checks or pay pal accepted. \nAll credit cards must have a domestic U.S. billing address. IMPORTANT PLEASE READ PAYMENT TERMS FOR THIS AUCTION All major credit cards are accepted. Your credit card will immediatley be charged for all purchases. However all new bidders to Tom Hall Auctions or bidders with high invoices at auctioneers discretion will be required to pay by cash or wire transfer if your invoice exceeds $1250.00. \nDo you have Something to Sell? \nWe Can Help. Real Estate * Downsizing * Estates * \nBusiness Liquidations Estate Appraisals * Jewelry & Couture
URL:https://tomhallauctions.com/auction/minerals-arrowheads-geodes-more/
LOCATION:Tom Hall Auctions\, Inc.\, Online\, United States
CATEGORIES:None
ATTACH;FMTTYPE=image/jpeg:https://tomhallauctions.com/wp-content/uploads/2026/01/Screenshot-2026-01-05-at-2.36.08-PM.jpeg
END:VEVENT
END:VCALENDAR