BEGIN:VCALENDAR
VERSION:2.0
PRODID:-//Tom Hall Auctions, Inc. - ECPv6.15.17//NONSGML v1.0//EN
CALSCALE:GREGORIAN
METHOD:PUBLISH
X-WR-CALNAME:Tom Hall Auctions, Inc.
X-ORIGINAL-URL:https://tomhallauctions.com
X-WR-CALDESC:Events for Tom Hall Auctions, Inc.
REFRESH-INTERVAL;VALUE=DURATION:PT1H
X-Robots-Tag:noindex
X-PUBLISHED-TTL:PT1H
BEGIN:VTIMEZONE
TZID:America/New_York
BEGIN:DAYLIGHT
TZOFFSETFROM:-0500
TZOFFSETTO:-0400
TZNAME:EDT
DTSTART:20250309T070000
END:DAYLIGHT
BEGIN:STANDARD
TZOFFSETFROM:-0400
TZOFFSETTO:-0500
TZNAME:EST
DTSTART:20251102T060000
END:STANDARD
BEGIN:DAYLIGHT
TZOFFSETFROM:-0500
TZOFFSETTO:-0400
TZNAME:EDT
DTSTART:20260308T070000
END:DAYLIGHT
BEGIN:STANDARD
TZOFFSETFROM:-0400
TZOFFSETTO:-0500
TZNAME:EST
DTSTART:20261101T060000
END:STANDARD
BEGIN:DAYLIGHT
TZOFFSETFROM:-0500
TZOFFSETTO:-0400
TZNAME:EDT
DTSTART:20270314T070000
END:DAYLIGHT
BEGIN:STANDARD
TZOFFSETFROM:-0400
TZOFFSETTO:-0500
TZNAME:EST
DTSTART:20271107T060000
END:STANDARD
END:VTIMEZONE
BEGIN:VEVENT
DTSTART;TZID=America/New_York:20260423T190000
DTEND;TZID=America/New_York:20260423T230000
DTSTAMP:20260422T211024
CREATED:20260415T195914Z
LAST-MODIFIED:20260415T195914Z
UID:14772-1776970800-1776985200@tomhallauctions.com
SUMMARY:Bethlehem Downsizing Auction - Stickley Furnishings & Decor
DESCRIPTION:View all our Auctions! \n\nBethlehem Downsizing Auction — Quality Furnishings & Decor\nOnline Auction — Starts Closing 7PM Thursday\, April 23\, 2026Bid Now at: www.tomhallauctions.com \nA short and sweet Bethlehem downsizing auction featuring clean\, well-cared-for furnishings ready for immediate use. Only 60 lots\, but every item offers quality and value. \nFeatured Items Include:\n\nModern Stickley Loveseat\, Recliner\, Rocker & Arm Chair\nStickley Dining Room Table & Chairs\nColonial & Thomasville Furniture\nRugs\, Artwork & Decorative Accessories\nWaterford Crystal and More\n\n\nAuction Location\nBethlehem\, Pennsylvania — off Route 512 near Johnston DriveNote: These items are NOT located at Tom Hall Auctions. \n\nBuyer Pickup Schedule (Strictly Enforced)\n\nFriday\, April 24\, 2026 — 9:00 AM to 3:00 PM\nSaturday\, April 25\, 2026 — 9:00 AM to 11:00 AM\n\nNo other pickup dates are available.All items must be removed during these hours only. \nPlease bring: \n\nYour paid invoice\nAppropriate help\, tools\, and moving equipment\n\nWinning bidders will receive the full address and a link to schedule a pickup time with their paid invoice. \nItems not removed during the scheduled pickup times will be forfeited without refund. \n\nPreview\nNo Preview for This Auction \n\nShipping Information\nIn-house shipping is available on: \n\nWaterford Crystal\nDecorative Artwork Only\n\nNo shipping on furniture or other items. \nFor shipping inquiries\, contact:shipping@tomhallauctions.com \nAll shipping requests must be received by:Friday\, April 24\, 2026 — 12:00 Noon \n\nBidding Details\n\nOnline Only Bidding\nAuction closes 2 items per minute\nExtended bidding applies: If a bid is placed within the last minute\, bidding will extend by 1 minute from the last bid.\n\n\nPayment Terms\n\nMajor Credit Cards Accepted\n20% Buyer’s Premium\nNo checks or PayPal accepted\nAll credit cards must have a U.S. billing address\n\nYour credit card will be charged immediately after the auction. \nAt the auctioneer’s discretion:Invoices exceeding $1\,250 or new bidder accounts may require payment by cash or wire transfer and valid ID. \n\nPlease Remember\nBuying at auction is not like buying new. Items are used\, vintage\, or antique and may show normal wear from use in a home. \n\nDo You Have Something to Sell? We Can Help.\nReal Estate • Downsizing • Estates • Business LiquidationsEstate Appraisals • Jewelry • Collections \nTom Hall Auctions — Auction is the Answer.
URL:https://tomhallauctions.com/auction/bethlehem-downsizing-auction-stickley-furnishings-decor/
LOCATION:Tom Hall Auctions\, Inc.\, Online\, United States
CATEGORIES:None
ATTACH;FMTTYPE=image/jpeg:https://tomhallauctions.com/wp-content/uploads/2026/04/Screenshot-2026-04-15-at-3.54.08-PM.jpeg
END:VEVENT
BEGIN:VEVENT
DTSTART;TZID=America/New_York:20260426T190000
DTEND;TZID=America/New_York:20260426T230000
DTSTAMP:20260422T211024
CREATED:20260410T201121Z
LAST-MODIFIED:20260416T020444Z
UID:14760-1777230000-1777244400@tomhallauctions.com
SUMMARY:🚂 Model Trains & Hess Trucks Collector Auction LGB • Lionel • Mostly Boxed • Ready for Display or the Layout
DESCRIPTION:View all our Auctions! \n\n\n🚂 Model Trains & Hess Trucks Collector Auction\nLGB • Lionel • Mostly Boxed • Ready for Display or the LayoutOnline Auction Starts Closing 7PM Sunday\, April 26\, 2026\nBid opens by Wednesday April 15th \nPreview: By appointment – call 610-799-0808 \n\n\nAuction Location:Tom Hall Auction Gallery4644 Main St (Route 309)Schnecksville\, PA 18078 \n\nPickup Information\nDay After Auction: 12:00 PM – 3:30 PMMonday – Friday: 9:30 AM – 3:30 PM (within 7 days of auction) \n\nIn-House Shipping Available\nBid with confidence—our professional in-house shipping department handles packing and shipping directly from our gallery. With over 30 years of experience\, we make receiving your auction purchases quick and easy. \nShipping inquiries:shipping@tomhallauctions.com \n\nOnline Bidding Terms\n\n\n20% Buyer’s Premium \n\n\nMajor Credit Cards Accepted \n\n\n6% Pennsylvania Sales Tax (unless valid exemption provided) \n\n\nChecks and PayPal are not accepted \n\n\nImportant: At the auctioneer’s discretion\, jewelry purchases exceeding $1\,200 or purchases by new HiBid bidders may require wire transfer or cash payment. A valid ID may also be required. \n\nDo You Have Something to Sell?\nTom Hall Auctions can help with: \n\n\nReal Estate\, Estate Liquidations\, Downsizing\, Business Liquidations\, Estate Appraisals\, Jewelry & Couture\, Motorcycle & Car Collections \n\n\nTom Hall Auctions\, Inc. (AU-1734)4644 Main Street\, Schnecksville\, PA610-799-0808
URL:https://tomhallauctions.com/auction/april-trains-mike/
LOCATION:Tom Hall Auctions\, Inc.\, Online\, United States
CATEGORIES:None
ATTACH;FMTTYPE=image/jpeg:https://tomhallauctions.com/wp-content/uploads/2026/04/Screenshot-2026-04-10-at-4.05.19-PM.jpeg
END:VEVENT
BEGIN:VEVENT
DTSTART;TZID=America/New_York:20260427T190000
DTEND;TZID=America/New_York:20260427T230000
DTSTAMP:20260422T211024
CREATED:20260415T005820Z
LAST-MODIFIED:20260415T005820Z
UID:14765-1777316400-1777330800@tomhallauctions.com
SUMMARY:Interesting Objects\, Geodes\, Minerals & More
DESCRIPTION:View all our Auctions! \n\nInteresting Objects\, Geodes\, Minerals & MoreOnline Auction – 7PM Monday\, April 27\, 2026 \nTake a look at this fun and unusual mix of geodes\, minerals\, and handcrafted pieces. This auction features a variety of natural specimens\, including geodes\, agates\, and other eye-catching stones with great color\, texture\, and display appeal. \nYou’ll also find carved stone bookends and figurines\, along with nicely detailed carved wood pieces.  A little bit of everything makes this auction interesting\, perfect for collectors\, decorators\, or anyone who appreciates unique natural objects. \nPreview: By appointment – call 610-799-0808 \nAuction Location:Tom Hall Auction Gallery4644 Main St (Route 309)Schnecksville\, PA 18078 \n\nPickup Information\nDay After Auction: 12:00 PM – 3:30 PMMonday – Friday: 9:30 AM – 3:30 PM (within 7 days of auction) \n\nIn-House Shipping Available\nBid with confidence—our professional in-house shipping department handles packing and shipping directly from our gallery. With over 30 years of experience\, we make receiving your auction purchases quick and easy. \nShipping inquiries:shipping@tomhallauctions.com \n\nOnline Bidding Terms\n\n\n20% Buyer’s Premium \n\n\nMajor Credit Cards Accepted \n\n\n6% Pennsylvania Sales Tax (unless valid exemption provided) \n\n\nChecks and PayPal are not accepted \n\n\nImportant: At the auctioneer’s discretion\, jewelry purchases exceeding $1\,200 or purchases by new HiBid bidders may require wire transfer or cash payment. A valid ID may also be required. \n\nDo You Have Something to Sell?\nTom Hall Auctions can help with: \n\n\nReal Estate\, Estate Liquidations\, Downsizing\, Business Liquidations\, Estate Appraisals\, Jewelry & Couture\, Motorcycle & Car Collections \n\n\nTom Hall Auctions\, Inc. (AU-1734)4644 Main Street\, Schnecksville\, PA610-799-0808
URL:https://tomhallauctions.com/auction/interesting-objects-geodes-minerals-more/
LOCATION:Tom Hall Auctions\, Inc.\, Online\, United States
CATEGORIES:None
ATTACH;FMTTYPE=image/jpeg:https://tomhallauctions.com/wp-content/uploads/2026/04/Screenshot-2026-04-14-at-2.35.32-PM.jpeg
END:VEVENT
BEGIN:VEVENT
DTSTART;TZID=America/New_York:20260428T190000
DTEND;TZID=America/New_York:20260428T230000
DTSTAMP:20260422T211024
CREATED:20260416T195811Z
LAST-MODIFIED:20260416T195811Z
UID:14776-1777402800-1777417200@tomhallauctions.com
SUMMARY:Victorian & Glowing Uranium Glass\, Russian Porcelain\, Jim Shore & More!
DESCRIPTION:View all our Auctions! \nSingle Owner Estate Collection \nVictorian Glass\, Figurines & Decorative Collectibles Auction\nOnline Auction – 7PM Tuesday\, April 28\, 2026 \nStep into a vibrant and thoughtfully curated collection celebrating the beauty of Victorian glass\, decorative antiques\, and the artistry of fine figurines. This colorful and diverse offering features pieces that collectors and decorators alike will appreciate. \nHighlights Include: \n\nA striking collection of Vaseline (Uranium) Glass\nFenton\, Jefferson\, and Daylight Green Milk Glassware\nIrish Wade and Mettlach Beer Steins\nLomonosov Porcelain Figure from the USSR\nA wonderful assortment of Jim Shore Figurines\nVictorian Bridal Rosettes\nGold-Filled and Sterling Jewelry\nHandcrafted Designer Brooches\nNippon and Villeroy & Boch Decorative Plates\nBarbie Dolls\, Dept. 56\, Cast Iron\, and Annalee Dolls\n\nWhether you’re a collector\, gift buyer\, or simply enjoy unique and beautiful pieces\, this auction offers a fun and colorful mix of treasures. \nPreview: By appointment – call 610-799-0808 \nAuction Location:Tom Hall Auction Gallery4644 Main St (Route 309)Schnecksville\, PA 18078 \n\nPickup Information\nDay After Auction: 12:00 PM – 3:30 PMMonday – Friday: 9:30 AM – 3:30 PM (within 7 days of auction) \n\nIn-House Shipping Available\nBid with confidence—our professional in-house shipping department handles packing and shipping directly from our gallery. With over 30 years of experience\, we make receiving your auction purchases quick and easy. \nShipping inquiries:shipping@tomhallauctions.com \n\nOnline Bidding Terms\n\n\n20% Buyer’s Premium \n\n\nMajor Credit Cards Accepted \n\n\n6% Pennsylvania Sales Tax (unless valid exemption provided) \n\n\nChecks and PayPal are not accepted \n\n\nImportant: At the auctioneer’s discretion\, jewelry purchases exceeding $1\,200 or purchases by new HiBid bidders may require wire transfer or cash payment. A valid ID may also be required. \n\nDo You Have Something to Sell?\nTom Hall Auctions can help with: \n\n\nReal Estate\, Estate Liquidations\, Downsizing\, Business Liquidations\, Estate Appraisals\, Jewelry & Couture\, Motorcycle & Car Collections \n\n\nTom Hall Auctions\, Inc. (AU-1734)4644 Main Street\, Schnecksville\, PA610-799-0808
URL:https://tomhallauctions.com/auction/victorian-glowing-uranium-glass-russian-porcelain-jim-shore-more/
LOCATION:Tom Hall Auctions\, Inc.\, Online\, United States
CATEGORIES:None
ATTACH;FMTTYPE=image/jpeg:https://tomhallauctions.com/wp-content/uploads/2026/04/Screenshot-2026-04-16-at-3.51.14-PM-1.jpeg
END:VEVENT
BEGIN:VEVENT
DTSTART;TZID=America/New_York:20260430T190000
DTEND;TZID=America/New_York:20260430T230000
DTSTAMP:20260422T211024
CREATED:20260312T184404Z
LAST-MODIFIED:20260408T003507Z
UID:14610-1777575600-1777590000@tomhallauctions.com
SUMMARY:Contents of a Lovely Branchburg\, NJ Home!
DESCRIPTION:View all our Auctions! \nContents of a Lovely Branchburg\, NJ Home! \nOnline Auction Closing Date: 7PM Thursday April 30\, 2026 \nItems are located in Branchburg\, NJ\, just off Route 202 & Route 629 — approximately 70 minutes from Allentown\, PA. \nBuyer pickup/removal dates: Monday May 4\, 2026 from 12pm-4pm and Tuesday May 5 \, 2026 from 9am-3pm \nNo other pickup dates are available.  \nBring your paid invoice\, appropriate equipment\, tools and help to move your items. \nWinning bidders will receive the full address of the property with your paid invoice. This email will also include a link to schedule a pickup time. \nPLEASE NOTE: If the items are not removed during these two pickup days they will be forfeited without a refund. \nNo Preview For This Auction  \nShipping: In-house shipping available on smaller lot! Bid confidently as we handle the packing and shipping straight from our gallery to you. For shipping inquiries\, contact us at: shipping@tomhallauctions.com. \nNOTE: All shipping requests must be received by Friday\, May 1 \, 2026 no later than 2pm or we cannot guarantee shipping. Furniture\, tools\, outdoor items and large/room size rugs are NOT available for shipping.  \nOnline Only Bidding:  Auction starts closing with 2 items closing per minute\, bidding continues as auction closes. \nExtended bidding\, if a bid is placed within the last 1 minute of a lot’s scheduled close time the bidding will be extended 1 minute from the last bid. \nBuying at auction is not like buying new; the items are used\, vintage and antique.  They have been used in people’s homes for their purposes\, so while most items are in good condition\, most are not in perfect condition. \nIMPORTANT PLEASE READ PAYMENT TERMS FOR THIS AUCTION \nOnline bidding Terms: Major Credit Cards\, 20% Buyer’s  for this auction\, 6% Sales Tax collected if you have not provided a valid Sales Tax Exemption Certificate. No checks or pay pal accepted. \nAll credit cards must have a domestic U.S. billing address. IMPORTANT PLEASE READ PAYMENT TERMS FOR THIS AUCTION.  All major credit cards are accepted. Your credit card will immediately be charged for all purchases. However all new bidders to Tom Hall Auctions or bidders with high invoices at auctioneers discretion will be required to pay by cash or wire transfer if your invoice exceeds $1250.00. \n(IMPORTANT NOTE: At auctioneers discretion\, payment may be by wire transfer or cash for all purchases with an invoice exceeding $1250.00.)  Auctioneer may require a copy of valid ID for any transactions. \nDo you have Something to Sell?  We Can Help. \nReal Estate * Downsizing * Estates * Business Liquidations \nEstate Appraisals * Jewelry & Couture
URL:https://tomhallauctions.com/auction/lov-ly-new-jer-sey/
LOCATION:Tom Hall Auctions\, Inc.\, Online\, United States
CATEGORIES:None
ATTACH;FMTTYPE=image/jpeg:https://tomhallauctions.com/wp-content/uploads/2026/03/Screenshot-2026-04-07-at-8.32.59-PM.jpeg
END:VEVENT
BEGIN:VEVENT
DTSTART;TZID=America/New_York:20260430T190000
DTEND;TZID=America/New_York:20260430T230000
DTSTAMP:20260422T211024
CREATED:20260410T185921Z
LAST-MODIFIED:20260418T020108Z
UID:14755-1777575600-1777590000@tomhallauctions.com
SUMMARY:🎙️ Broadcast & Studio Gear Auction #6 Plus Classic Vinyl\, Legendary Equipment & More Surprises
DESCRIPTION:View all our Auctions! \n\n\n🎙️ Broadcast & Studio Gear Auction #6\nPlus Classic Vinyl\, Legendary Equipment & More SurprisesOnline Auction Starts Closing 7PM Thursday\, April 30\, 2026\nBidding is opens by April 16Remarkable but true\, after five successful auctions from this single-owner broadcast and audio production collection\, the quality just keeps coming. \nWe’re cataloging another outstanding lineup featuring respected names like RCA\, Sennheiser\, Ampex\, Altec\, and McMartin\,  brands trusted by broadcasters\, studios\, and serious audio enthusiasts for generations. \nAnd for the music lovers\, we’re once again offering a fantastic selection of 45’s and LP’s\, including classic rock\, blues\, funk\, and soul\,  the kind of records that bring back memories and still sound incredible today. \nBid with confidence. Bid with excitement. Discover something remarkable. \nPreview: \n\n\nBy appointment – call 610-799-0808 \nAuction Location:Tom Hall Auction Gallery4644 Main St (Route 309)Schnecksville\, PA 18078 \n\nPickup Information\nDay After Auction: 12:00 PM – 3:30 PMMonday – Friday: 9:30 AM – 3:30 PM (within 7 days of auction) \n\nIn-House Shipping Available\nBid with confidence—our professional in-house shipping department handles packing and shipping directly from our gallery. With over 30 years of experience\, we make receiving your auction purchases quick and easy. \nShipping inquiries:shipping@tomhallauctions.com \n\nOnline Bidding Terms\n\n\n20% Buyer’s Premium \n\n\nMajor Credit Cards Accepted \n\n\n6% Pennsylvania Sales Tax (unless valid exemption provided) \n\n\nChecks and PayPal are not accepted \n\n\nImportant: At the auctioneer’s discretion\, jewelry purchases exceeding $1\,200 or purchases by new HiBid bidders may require wire transfer or cash payment. A valid ID may also be required. \n\nDo You Have Something to Sell?\nTom Hall Auctions can help with: \n\n\nReal Estate\, Estate Liquidations\, Downsizing\, Business Liquidations\, Estate Appraisals\, Jewelry & Couture\, Motorcycle & Car Collections \n\n\nTom Hall Auctions\, Inc. (AU-1734)4644 Main Street\, Schnecksville\, PA610-799-0808
URL:https://tomhallauctions.com/auction/it-keeps-coming-yea/
LOCATION:Tom Hall Auctions\, Inc.\, Online\, United States
CATEGORIES:None
ATTACH;FMTTYPE=image/jpeg:https://tomhallauctions.com/wp-content/uploads/2026/04/Screenshot-2026-04-10-at-2.50.50-PM.jpeg
END:VEVENT
BEGIN:VEVENT
DTSTART;TZID=America/New_York:20260503T190000
DTEND;TZID=America/New_York:20260503T230000
DTSTAMP:20260422T211024
CREATED:20260420T234829Z
LAST-MODIFIED:20260422T191641Z
UID:14782-1777834800-1777849200@tomhallauctions.com
SUMMARY:Contents of a Lovely Emmaus\, PA Home!
DESCRIPTION:View all our Auctions! \n Contents of a Beautiful Emmaus\, PA Home\nOnline Auction Starts Closing 7PM Sunday\, May 3\, 2026\n\nContents of a Beautiful Emmaus\, PA Home — Selling at Auction!\nStep inside this lovely Emmaus home and discover a wide variety of quality furnishings\, collectibles\, and household goods ready for new homes. This is a clean\, well-cared-for collection with something for everyone—from decorators and collectors to everyday buyers looking for great value. \nHighlights Include:\n\nEthan Allen furniture & quality leather seating\nWedgwood china & Waterford crystal\nArtwork & Oriental-style carpets\nLarge-screen TVs & stereo equipment\nHigh-end cameras & lenses\nRailroad lanterns\, tools & garden furniture\nJewelry and much more throughout the home\n\nDon’t miss this opportunity to bid on quality items from a beautiful Emmaus home—everything sells to the highest bidder. \n\nOnline Auction — Starts Closing\n7:00 PM Sunday\, May 3\, 2026Bidding is Open! Bid Now at www.tomhallauctions.com \nNo Preview for This Auction \nAuction Location:Emmaus\, PennsylvaniaThese items are located in Emmaus\, PA — NOT at Tom Hall Auctions. \n\nBuyer Pickup — Emmaus\, PA\nTwo-Day Pickup Only \n\nWednesday\, May 6\, 2026 — 12:00 PM to 4:00 PM\nThursday\, May 7\, 2026 — 9:00 AM to 3:00 PM\n\nYou will be required to schedule a pickup time due to the logistics of this property.No one will be permitted to pick up without an appointment. \nNo other pickup dates are available. \nPlease bring your paid invoice\, appropriate equipment\, tools\, and help to remove your items. \nWinning bidders will receive the full address of the property with their paid invoice\, along with a link to schedule a pickup time. \nIMPORTANT: Items not removed during these scheduled pickup days will be forfeited without refund. \n\nShipping Information\nIn-House Shipping is available on small items only. \nShipping is NOT available for: \n\nFurniture\nTools\nOutdoor items\nLarge lots\nRoom-size rugs\n\nBid confidently—our team handles packing and shipping directly from our facility. \nFor shipping inquiries\, contact:shipping@tomhallauctions.com \nAll shipping requests must be received by:Tuesday\, May 5\, 2026 — no later than 12:00 NoonRequests received after this time may not be accommodated. \n\nOnline Bidding Information\n\nAuction closes at a rate of 2 items per minute\nExtended bidding: If a bid is placed within the last minute of a lot’s scheduled close time\, bidding will extend by one additional minute\n\nBuying at auction is not like buying new. Items are used\, vintage\, or antique and have been previously owned and used in homes. While most items are in good condition\, they are not in perfect condition. \n\nPayment Terms — Please Read\n\n20% Buyer’s Premium applies\nNo Sales Tax for this auction\nMajor credit cards accepted\nNo checks or PayPal accepted\nAll credit cards must have a domestic U.S. billing address\n\nYour credit card will be charged immediately following the auction. \nNew bidders to Tom Hall Auctions\, or bidders with high-value invoices\, may be required—at the auctioneer’s discretion—to pay by cash or wire transfer if the invoice exceeds $1\,250. \nThe auctioneer may require a copy of valid identification for any transaction.
URL:https://tomhallauctions.com/auction/con-ten-of-emmaus/
LOCATION:Tom Hall Auctions\, Inc.\, Online\, United States
CATEGORIES:None
ATTACH;FMTTYPE=image/jpeg:https://tomhallauctions.com/wp-content/uploads/2026/04/Screenshot-2026-04-20-at-7.44.26-PM.jpeg
END:VEVENT
BEGIN:VEVENT
DTSTART;TZID=America/New_York:20260504T190000
DTEND;TZID=America/New_York:20260504T230000
DTSTAMP:20260422T211024
CREATED:20260422T153610Z
LAST-MODIFIED:20260422T192126Z
UID:14785-1777921200-1777935600@tomhallauctions.com
SUMMARY:Civil War to WWII Military & Historic Collectibles
DESCRIPTION:View all our Auctions! \n\nCivil War to WWII Military & Historic Collectibles Auction\nOnline Auction • 7PM Monday\, May 4\, 2026\nBid Now at TomHallAuctions.com \nStep into a remarkable online auction featuring an extraordinary collection of historical treasures spanning from the Civil War through World War II\, the Vietnam era\, and beyond. This diverse and carefully assembled offering brings together military artifacts rich with history\, craftsmanship\, and personal stories from America’s past. \nCollectors will discover an impressive selection of excavated Civil War relics\, including buttons\, bullets\, grape shot\, uniform insignia\, and personal items used by soldiers both in battle and daily life. The sale also features antique ammunition\, original soldier belts and buckles\, ammunition pouches\, swords\, and Civil War photographs\, publications\, and signed books that help bring this pivotal period in history to life. \nA true highlight of the auction is a significant archival collection documenting the lives and service of soldiers from the 88th Pennsylvania Regiment\, offering a meaningful connection to local and national history. \nWorld War II collectors will find standout pieces as well\, including rare memorabilia and publications connected to Audie Murphy\, the most decorated American serviceman of the war. Among the most notable items is a first edition copy of To Hell and Back\, signed and personally dedicated by Murphy to Lyndon B. Johnson\, along with additional signed works and historic military artifacts. Also featured are WWII field gear items and scarce paratrooper Griswold gun bags\, adding further depth to this impressive collection. \nBeyond militaria\, the auction expands into fine and decorative arts and unique collectibles\, including: \n\nEarly Lalique art glass\nEarly Meiji period Asian bronze pieces\nFine Herend figures\nWildlife artwork by Ned Smith\, many signed\nMilitary and campaign flags\nNavy uniforms and insignia\nEarly briar and meerschaum pipes\, some with sterling\, 800 silver\, or 10k gold bands in original cases\n\nAdditional highlights include vintage toys\, violins\, baskets\, dinnerware\, and even a boxing glove signed by Muhammad Ali\, creating a well-rounded and engaging catalog with something for nearly every collector. \nWith such a wide variety of rare and desirable items\, this is a sale that history buffs\, military collectors\, and general collectors alike will not want to miss. \nPreview: By appointment – call 610-799-0808 \nAuction Location:Tom Hall Auction Gallery4644 Main St (Route 309)Schnecksville\, PA 18078 \n\nPickup Information\nDay After Auction: 12:00 PM – 3:30 PMMonday – Friday: 9:30 AM – 3:30 PM (within 7 days of auction) \n\nIn-House Shipping Available\nBid with confidence—our professional in-house shipping department handles packing and shipping directly from our gallery. With over 30 years of experience\, we make receiving your auction purchases quick and easy. \nShipping inquiries:shipping@tomhallauctions.com \n\nOnline Bidding Terms\n\n\n20% Buyer’s Premium \n\n\nMajor Credit Cards Accepted \n\n\n6% Pennsylvania Sales Tax (unless valid exemption provided) \n\n\nChecks and PayPal are not accepted \n\n\nImportant: At the auctioneer’s discretion\, jewelry purchases exceeding $1\,200 or purchases by new HiBid bidders may require wire transfer or cash payment. A valid ID may also be required. \n\nDo You Have Something to Sell?\nTom Hall Auctions can help with: \n\n\nReal Estate\, Estate Liquidations\, Downsizing\, Business Liquidations\, Estate Appraisals\, Jewelry & Couture\, Motorcycle & Car Collections \n\n\nTom Hall Auctions\, Inc. (AU-1734)4644 Main Street\, Schnecksville\, PA610-799-0808
URL:https://tomhallauctions.com/auction/civil-war-to-wwii-military-historic-collectibles/
LOCATION:Tom Hall Auctions\, Inc.\, Online\, United States
CATEGORIES:None
ATTACH;FMTTYPE=image/jpeg:https://tomhallauctions.com/wp-content/uploads/2026/04/Screenshot-2026-04-22-at-11.33.38-AM.jpeg
END:VEVENT
BEGIN:VEVENT
DTSTART;TZID=America/New_York:20260506T190000
DTEND;TZID=America/New_York:20260506T230000
DTSTAMP:20260422T211024
CREATED:20260415T021216Z
LAST-MODIFIED:20260422T191817Z
UID:14768-1778094000-1778108400@tomhallauctions.com
SUMMARY:200+ Paintings by Chester County Artist Charles Frith\, also known as “The Mad Hatter of Cape May”
DESCRIPTION:View all our Auctions! \n\nThe Charles Frith Collection – Auction Series Begins \nFeaturing Over 200 Original Works by Chester County Artist Charles Frith \nKnown as “The Mad Hatter of Cape May” \nAuction #1  Features 60 Original Paintings from a Single-Owner Collection \nBidding Opens Wednesday\, April 22\, 2026\nAuction Starts Closing 7PM Wednesday\, May 6\, 2026 \nWe are proud to present the first offering from a remarkable single-owner collection of original works by Charles Frith (1939–2005)  the distinctive Chester County artist celebrated for his bold color\, expressive style\, and memorable coastal and regional scenes.  Affectionately known as “The Mad Hatter of Cape May\,” Frith developed a loyal following for his vibrant paintings that captured the charm\, light\, and atmosphere of the Mid-Atlantic region. \nThis collection was acquired directly from the Frith estate by a private collector and has been carefully preserved in storage since 2005. Now\, for the first time\, these works are being brought to market and offered to the public with no reserves. \nAuction #1 features approximately 60 original paintings showcasing Frith’s signature style — from lively seaside scenes and nocturnal landscapes to expressive farm settings\, architectural subjects\, and charming town views. Each piece reflects the creativity and unmistakable personality that made Charles Frith a beloved regional artist. \nThis extensive collection includes over 200 original works and will be offered in a series of curated auctions\, providing collectors and admirers multiple opportunities to acquire authentic works from this unique and well-preserved collection. \nWhether you are a seasoned collector\, a regional art enthusiast\, or simply appreciate original artwork with character and history\, this is a rare opportunity to purchase works that have remained out of the marketplace for two decades. \nAdditional works from this collection will be offered in future auctions. \nPreview: By appointment – call 610-799-0808 \nAuction Location:Tom Hall Auction Gallery4644 Main St (Route 309)Schnecksville\, PA 18078 \n\nPickup Information\nDay After Auction: 12:00 PM – 3:30 PMMonday – Friday: 9:30 AM – 3:30 PM (within 7 days of auction) \n\nIn-House Shipping Available\nBid with confidence—our professional in-house shipping department handles packing and shipping directly from our gallery. With over 30 years of experience\, we make receiving your auction purchases quick and easy. \nShipping inquiries:shipping@tomhallauctions.com \n\nOnline Bidding Terms\n\n\n20% Buyer’s Premium \n\n\nMajor Credit Cards Accepted \n\n\n6% Pennsylvania Sales Tax (unless valid exemption provided) \n\n\nChecks and PayPal are not accepted \n\n\nImportant: At the auctioneer’s discretion\, jewelry purchases exceeding $1\,200 or purchases by new HiBid bidders may require wire transfer or cash payment. A valid ID may also be required. \n\nDo You Have Something to Sell?\nTom Hall Auctions can help with: \n\n\nReal Estate\, Estate Liquidations\, Downsizing\, Business Liquidations\, Estate Appraisals\, Jewelry & Couture\, Motorcycle & Car Collections \n\n\nTom Hall Auctions\, Inc. (AU-1734)4644 Main Street\, Schnecksville\, PA610-799-0808
URL:https://tomhallauctions.com/auction/mad-hatter-cape-may/
LOCATION:Tom Hall Auctions\, Inc.\, Online\, United States
CATEGORIES:None
ATTACH;FMTTYPE=image/jpeg:https://tomhallauctions.com/wp-content/uploads/2026/04/ad87c343-322a-438b-b0ee-545e6a7a654c.jpeg
END:VEVENT
END:VCALENDAR